BEGIN:VCALENDAR
VERSION:2.0
PRODID:-//Fundacja Rozwoju Kultury ArtBiz - ECPv4.6.26//NONSGML v1.0//EN
CALSCALE:GREGORIAN
METHOD:PUBLISH
X-WR-CALNAME:Fundacja Rozwoju Kultury ArtBiz
X-ORIGINAL-URL:https://www.artbiz.eu
X-WR-CALDESC:Events for Fundacja Rozwoju Kultury ArtBiz
BEGIN:VEVENT
DTSTART;TZID=Europe/Warsaw:20180224T190000
DTEND;TZID=Europe/Warsaw:20180224T210000
DTSTAMP:20260421T133938
CREATED:20171018T175235Z
LAST-MODIFIED:20171018T175236Z
UID:403-1519498800-1519506000@www.artbiz.eu
SUMMARY:2018-02-24 Natalia Kukulska w Lublinie
DESCRIPTION:Halo Lublin!\nJuż 24 lutego 2018 w Klubie30 wystąpi Natalia Kukulska.\nKoncert będzie częścią trasy promującej płytę „Halo tu Ziemia” – 9 studyjny album Artystki\, którego premiera zaplanowana jest na 29 września 2017.\nOd swojego “dorosłego” debiutu i płyty “Światło” artystka przeszła długą muzyczną drogę\, rozwijając się jako wokalistka\, autorka tekstów\, współkompozytorka i współproducentka swoich płyt. Nowoczesne\, odważne w brzmieniach kompozycje stworzone zostały przez Natalię w kolektywie z Michałem Dąbrówką\, Archie Shevsky’m i Marcinem Górnym. Ideą całej płyty był zapis żywych emocji i muzycznych pomysłów\, będących efektem wspólnego grania podczas muzycznego wyjazdu całego zespołu w góry. Tam powstała większość piosenek. Dzięki temu album ma w sobie żywiołowość\, rodzaj koncertowej energii\, ale również nie ucieka esencja czyli jakość kompozycji. Halo tu Ziemia to zbiór oryginalnych i nieszablonowych utworów często wyrywających się z przewidywalnych form produkcyjnych. Czuć dojrzałą kreację i zabawę dźwiękiem a zarazem wszystkie eksperymenty brzmieniowe są jedynie przyprawą do przekazu treści. Trzonem tej płyty są kompozycje i teksty\, których oryginalność nie zostawia obojętnym słuchacza. Brzmienia przykuwają uwagę ale dopełniają obraz tworząc wraz z nośnymi melodiami – integralną całość. W dobie efekciarskiego i sformatowanego na sukces komercyjny brzmienia muzyki pop\, album ten sięga zdecydowanie głębiej. Analogowe\, mięsiste brzmienia syntezatorów i żywa\, dynamiczna perkusja a do tego charakterystyczny\, coraz mniej uładzony\, chropowaty wokal Natalii to zupełnie nowa\, progresywna odsłona Artystki. W warstwie lirycznej bywa dowcipnie\, nawet autoironicznie ale nie brakuje powagi i refleksji. Poszukiwanie duchowości – to o tym jest ta płyta. Album – “Halo tu Ziemia” wieńczą słowa piosenki pt.”Rekonstrukcja” – “Podnieść na duchu muszę ducha (…) bo wciąż na ducha jest posucha”\nBilety juz w sprzedaży!\nDo nabycia: na portalu KupBilecik.pl\nw Salonach Muzycznych Riff\nw Klubie30 ul. Jasna7 \n24.02.2018 wejście: 19:00\, start 19:30 \nKlub30\nJasna 7\,\n20-077 Lublin \n
URL:https://www.artbiz.eu/event/2018-02-24-natalia-kukulska-lublinie/
LOCATION:Klub30\, jasna 7\, Lublin\, Polska
ATTACH;FMTTYPE=image/jpeg:https://www.artbiz.eu/wp-content/uploads/2017/10/qqlska-lublin-top.jpg
ORGANIZER;CN="Fundacja%20Rozwoju%20Kultury%20ArtBiz":MAILTO:artbiz@artbiz.eu
END:VEVENT
END:VCALENDAR