BEGIN:VCALENDAR
VERSION:2.0
PRODID:-//Fundacja Rozwoju Kultury ArtBiz - ECPv4.6.26//NONSGML v1.0//EN
CALSCALE:GREGORIAN
METHOD:PUBLISH
X-WR-CALNAME:Fundacja Rozwoju Kultury ArtBiz
X-ORIGINAL-URL:https://www.artbiz.eu
X-WR-CALDESC:Events for Fundacja Rozwoju Kultury ArtBiz
BEGIN:VEVENT
DTSTART;TZID=Europe/Warsaw:20180414T180000
DTEND;TZID=Europe/Warsaw:20180414T203000
DTSTAMP:20260421T133729
CREATED:20170823T190101Z
LAST-MODIFIED:20180405T062921Z
UID:314-1523728800-1523737800@www.artbiz.eu
SUMMARY:Koncert Another Pink Floyd w Klub30
DESCRIPTION:kto: Another PINK FLOYD tribute band \ngdzie: KLUB30 ul. Jasna 7 \nkiedy: 14 kwiecień 2018 godz 18:00 (wejście 17:30) \n \n  \n  \nTym razem Another Pink Floyd przyjadą do nas z najbardziej rockowym repertuarem PINK FLOYD. Usłyszymy takie kawałki jak: Young Lust\, Run\, Dogs i wiele\, wiele innych. Niezapomniany  show dla fanów wielkiej muzyki. \nANOTHER Pink Floyd to krakowski zespół\, który juz od 10 lat wystepuje w całej Polsce zapełniając największe sale widowiskowe. Ich wystepy za każdym razem staja się wielkimi wydarzeniami scenicznymi. na koncerty Another Pink Floyd składają się nie tylko świetnie wykonane\, genialne utwory zespołu Pink Floyd ale również całościowa oprawa wizualna: klimatyczne animacje wyświetlane na okrągłym „floydowskim” ekranie\, starannie wyreżyserowana gra świateł oraz efekty laserowe. Dbałość o szczegóły i wierność oryginałowi przejawia się choćby w tym\, że Zespół używa podobnych instrumentów\, niemal identycznych efektów gitarowych oraz sampli jak pierwowzór\, co nadaje koncertom niepowtarzalny klimat – taki\, jak w swych utworach i na koncertach tworzyła grupa Pink Floyd. Osobowość frontmana grupy – Normana Powersa\, oraz zaangażowanie członków całego ośmioosobowego zespołu powodują\, że słuchacze odnoszą wrażenie uczestniczenia w koncercie oryginalnych Floydów. Od dwóch lat Zespół do zespołu dołączył zespół realizatorów światła i dźwięku\, dzięki czemu na każdej sali koncerty zespołu charakteryzują najwyższym poziomem wykonawczym. \nBILETY \n
URL:https://www.artbiz.eu/event/koncert-another-pink-floyd-klub30/
LOCATION:Klub30\, jasna 7\, Lublin\, Polska
ORGANIZER;CN="Fundacja%20Rozwoju%20Kultury%20ArtBiz":MAILTO:artbiz@artbiz.eu
END:VEVENT
END:VCALENDAR