BEGIN:VCALENDAR
VERSION:2.0
PRODID:-//Fundacja Rozwoju Kultury ArtBiz - ECPv4.6.26//NONSGML v1.0//EN
CALSCALE:GREGORIAN
METHOD:PUBLISH
X-WR-CALNAME:Fundacja Rozwoju Kultury ArtBiz
X-ORIGINAL-URL:https://www.artbiz.eu
X-WR-CALDESC:Events for Fundacja Rozwoju Kultury ArtBiz
BEGIN:VEVENT
DTSTART;TZID=Europe/Warsaw:20180317T220000
DTEND;TZID=Europe/Warsaw:20180318T030000
DTSTAMP:20260421T133339
CREATED:20180217T154907Z
LAST-MODIFIED:20180217T155213Z
UID:451-1521324000-1521342000@www.artbiz.eu
SUMMARY:Św. Patryk z Jig Reel Maniacs
DESCRIPTION: Dzień Świętego Patryka tradycyjnie jest świętowany na całym świecie tańcami\, hulanką i swawolami. Uczcijmy teń wieczór i my słuchając i tańcząc w rytm muzyki celtyckiej w rockowych aranżacjach ze szklaneczką whisky lub piwa w ręku.\nNiech to będzie noc warta zapamietania! \nBILETY \n
URL:https://www.artbiz.eu/event/sw-patryk-jig-reel-maniacs/
END:VEVENT
END:VCALENDAR